BEGIN:VCALENDAR
VERSION:2.0
PRODID:-//WSG - ECPv6.15.20//NONSGML v1.0//EN
CALSCALE:GREGORIAN
METHOD:PUBLISH
X-WR-CALNAME:WSG
X-ORIGINAL-URL:https://www.psychologischemorphologie.de
X-WR-CALDESC:Veranstaltungen für WSG
REFRESH-INTERVAL;VALUE=DURATION:PT1H
X-Robots-Tag:noindex
X-PUBLISHED-TTL:PT1H
BEGIN:VTIMEZONE
TZID:Europe/Berlin
BEGIN:DAYLIGHT
TZOFFSETFROM:+0100
TZOFFSETTO:+0200
TZNAME:CEST
DTSTART:20230326T010000
END:DAYLIGHT
BEGIN:STANDARD
TZOFFSETFROM:+0200
TZOFFSETTO:+0100
TZNAME:CET
DTSTART:20231029T010000
END:STANDARD
BEGIN:DAYLIGHT
TZOFFSETFROM:+0100
TZOFFSETTO:+0200
TZNAME:CEST
DTSTART:20240331T010000
END:DAYLIGHT
BEGIN:STANDARD
TZOFFSETFROM:+0200
TZOFFSETTO:+0100
TZNAME:CET
DTSTART:20241027T010000
END:STANDARD
BEGIN:DAYLIGHT
TZOFFSETFROM:+0100
TZOFFSETTO:+0200
TZNAME:CEST
DTSTART:20250330T010000
END:DAYLIGHT
BEGIN:STANDARD
TZOFFSETFROM:+0200
TZOFFSETTO:+0100
TZNAME:CET
DTSTART:20251026T010000
END:STANDARD
END:VTIMEZONE
BEGIN:VEVENT
DTSTART;TZID=Europe/Berlin:20240617T200000
DTEND;TZID=Europe/Berlin:20240617T213000
DTSTAMP:20260421T080639
CREATED:20240513T121531Z
LAST-MODIFIED:20240617T063245Z
UID:101052-1718654400-1718659800@www.psychologischemorphologie.de
SUMMARY:Lesung mit Dr. Wolfram Domke in der Wilhelm Salber Bibliothek
DESCRIPTION:Im April sind die gesammelten Aufsätze von Wolfram Domke im Verlag Zwischenschritte erschienen:\nAllerweltsdinge und ihre psychologischen Geheimnisse\nWir freuen uns\, dass der Autor zu einer Lesung in die Wilhelm Salber Bibliothek kommt. \nAus der Ankündigung des Verlags: “Die Zusammenstellung bündelt Veröffentlichungen Domkes von 1985 bis 2023 und bietet Einblicke in seine ersten Begegnungen mit der Morphologie Wilhelm Salbers bis hin zu den Ergebnissen seines Wirkens als Intensivberater und Ausbilder\, als Dozent und Wirkungsforscher. Sie zeigt Forschungsschwerpunkte\, wie den Umgang mit Märchen\, und freudvolle Nebensächlichkeiten\, wie den Fußball. Wer Wolfram Domke kennt\, wird zudem mit einer verblüffenden Erzählung zu seiner eigenen Geschichte am Schluss des Buches überrascht.” \nBei der Lesung handelt es sich um eine Live-Veranstaltung. Bitte erwerben Sie ein (kostenloses) Ticket. Die Veranstaltung ist auf 30 Teilnehmer begrenzt.
URL:https://www.psychologischemorphologie.de/veranstaltungen/lesung-mit-wolfram-domke-in-der-wilhelm-salber-bibliothek/
LOCATION:Wilhelm Salber Bibliothek\, Zülpicher Straße 83\, Köln\, 50937\, Deutschland
CATEGORIES:Lesung
ORGANIZER;CN="Wilhelm Salber Gesellschaft":MAILTO:info@psychologischemorphologie.de
END:VEVENT
END:VCALENDAR