BEGIN:VCALENDAR
VERSION:2.0
PRODID:-//WSG - ECPv6.15.20//NONSGML v1.0//EN
CALSCALE:GREGORIAN
METHOD:PUBLISH
X-ORIGINAL-URL:https://www.psychologischemorphologie.de
X-WR-CALDESC:Veranstaltungen für WSG
REFRESH-INTERVAL;VALUE=DURATION:PT1H
X-Robots-Tag:noindex
X-PUBLISHED-TTL:PT1H
BEGIN:VTIMEZONE
TZID:Europe/Berlin
BEGIN:DAYLIGHT
TZOFFSETFROM:+0100
TZOFFSETTO:+0200
TZNAME:CEST
DTSTART:20210328T010000
END:DAYLIGHT
BEGIN:STANDARD
TZOFFSETFROM:+0200
TZOFFSETTO:+0100
TZNAME:CET
DTSTART:20211031T010000
END:STANDARD
BEGIN:DAYLIGHT
TZOFFSETFROM:+0100
TZOFFSETTO:+0200
TZNAME:CEST
DTSTART:20220327T010000
END:DAYLIGHT
BEGIN:STANDARD
TZOFFSETFROM:+0200
TZOFFSETTO:+0100
TZNAME:CET
DTSTART:20221030T010000
END:STANDARD
BEGIN:DAYLIGHT
TZOFFSETFROM:+0100
TZOFFSETTO:+0200
TZNAME:CEST
DTSTART:20230326T010000
END:DAYLIGHT
BEGIN:STANDARD
TZOFFSETFROM:+0200
TZOFFSETTO:+0100
TZNAME:CET
DTSTART:20231029T010000
END:STANDARD
END:VTIMEZONE
BEGIN:VEVENT
DTSTART;TZID=Europe/Berlin:20220316T180000
DTEND;TZID=Europe/Berlin:20220316T193000
DTSTAMP:20260423T091120
CREATED:20220311T064426Z
LAST-MODIFIED:20220311T064647Z
UID:98214-1647453600-1647459000@www.psychologischemorphologie.de
SUMMARY:Ringvorlesung "Schnittstellen" an der BSP Berlin mit Prof. Dr. Andreas Marlovits
DESCRIPTION:Die Business School Berlin (BSP) veranstaltet eine Ringvorlesung\, bei der auch Mitglieder der WSG und Morphologen ihre Arbeit einbringen. Den Auftakt im Online-Format zu der Reihe machen Prof. Dr. Andreas Marlovits und Prof. Dr. Thomas Marlovits mit \nMächtige Wirkungen – unsichtbar\, bewegend\, faszinierend: Psychologie trifft Biochemie \nWenn Sie teilnehmen wollen\, können Sie dies auf der entsprechenden Seite der BSP-Homepage tun: \nhttps://www.businessschool-berlin.de/practice/ringvorlesung/
URL:https://www.psychologischemorphologie.de/veranstaltungen/ringvorlesung-schnittstellen-an-der-bsp-berlin-mit-prof-dr-andreas-marlovits/
CATEGORIES:Vorträge
END:VEVENT
END:VCALENDAR