BEGIN:VCALENDAR
VERSION:2.0
PRODID:-//WSG - ECPv6.15.20//NONSGML v1.0//EN
CALSCALE:GREGORIAN
METHOD:PUBLISH
X-WR-CALNAME:WSG
X-ORIGINAL-URL:https://www.psychologischemorphologie.de
X-WR-CALDESC:Veranstaltungen für WSG
REFRESH-INTERVAL;VALUE=DURATION:PT1H
X-Robots-Tag:noindex
X-PUBLISHED-TTL:PT1H
BEGIN:VTIMEZONE
TZID:Europe/Berlin
BEGIN:DAYLIGHT
TZOFFSETFROM:+0100
TZOFFSETTO:+0200
TZNAME:CEST
DTSTART:20230326T010000
END:DAYLIGHT
BEGIN:STANDARD
TZOFFSETFROM:+0200
TZOFFSETTO:+0100
TZNAME:CET
DTSTART:20231029T010000
END:STANDARD
BEGIN:DAYLIGHT
TZOFFSETFROM:+0100
TZOFFSETTO:+0200
TZNAME:CEST
DTSTART:20240331T010000
END:DAYLIGHT
BEGIN:STANDARD
TZOFFSETFROM:+0200
TZOFFSETTO:+0100
TZNAME:CET
DTSTART:20241027T010000
END:STANDARD
BEGIN:DAYLIGHT
TZOFFSETFROM:+0100
TZOFFSETTO:+0200
TZNAME:CEST
DTSTART:20250330T010000
END:DAYLIGHT
BEGIN:STANDARD
TZOFFSETFROM:+0200
TZOFFSETTO:+0100
TZNAME:CET
DTSTART:20251026T010000
END:STANDARD
END:VTIMEZONE
BEGIN:VEVENT
DTSTART;TZID=Europe/Berlin:20240626T173000
DTEND;TZID=Europe/Berlin:20240626T190000
DTSTAMP:20260421T122454
CREATED:20240107T071640Z
LAST-MODIFIED:20240506T125540Z
UID:100244-1719423000-1719428400@www.psychologischemorphologie.de
SUMMARY:Online Märchen-Workshop mit Dr. Wolfram Domke 03
DESCRIPTION:Nach den ersten beiden\, sehr erfolgreichen Workshops bietet Dr. Wolfram Domke ein drittes Online-Seminar zur Psychologie der Märchen an. Es wird veranstaltet von der Wilhelm Salber Gesellschaft und der Businessschool Berlin. \nDieses Mal steht “Das Meerhäschen” im Fokus. Und wieder bezieht Herr Dr. Domke einen Spielfilm in seine Analysen ein: “Kitchen Stories” (N / S 2003) von Bent Hamer. Die Teilnehmer mögen sich den Film bitte vorher ansehen.
URL:https://www.psychologischemorphologie.de/veranstaltungen/maerchen-workshop-mit-dr-wolfram-domke-03/
LOCATION:Business & Law School Berlin\, Calandrellistraße 1-9\, Berlin\, 12247
ORGANIZER;CN="Wilhelm Salber Gesellschaft":MAILTO:info@psychologischemorphologie.de
END:VEVENT
END:VCALENDAR