BEGIN:VCALENDAR
VERSION:2.0
PRODID:-//WSG - ECPv6.15.20//NONSGML v1.0//EN
CALSCALE:GREGORIAN
METHOD:PUBLISH
X-ORIGINAL-URL:https://www.psychologischemorphologie.de
X-WR-CALDESC:Veranstaltungen für WSG
REFRESH-INTERVAL;VALUE=DURATION:PT1H
X-Robots-Tag:noindex
X-PUBLISHED-TTL:PT1H
BEGIN:VTIMEZONE
TZID:Europe/Berlin
BEGIN:DAYLIGHT
TZOFFSETFROM:+0100
TZOFFSETTO:+0200
TZNAME:CEST
DTSTART:20230326T010000
END:DAYLIGHT
BEGIN:STANDARD
TZOFFSETFROM:+0200
TZOFFSETTO:+0100
TZNAME:CET
DTSTART:20231029T010000
END:STANDARD
BEGIN:DAYLIGHT
TZOFFSETFROM:+0100
TZOFFSETTO:+0200
TZNAME:CEST
DTSTART:20240331T010000
END:DAYLIGHT
BEGIN:STANDARD
TZOFFSETFROM:+0200
TZOFFSETTO:+0100
TZNAME:CET
DTSTART:20241027T010000
END:STANDARD
BEGIN:DAYLIGHT
TZOFFSETFROM:+0100
TZOFFSETTO:+0200
TZNAME:CEST
DTSTART:20250330T010000
END:DAYLIGHT
BEGIN:STANDARD
TZOFFSETFROM:+0200
TZOFFSETTO:+0100
TZNAME:CET
DTSTART:20251026T010000
END:STANDARD
END:VTIMEZONE
BEGIN:VEVENT
DTSTART;TZID=Europe/Berlin:20240311T200000
DTEND;TZID=Europe/Berlin:20240311T213000
DTSTAMP:20260421T160931
CREATED:20231222T070121Z
LAST-MODIFIED:20240229T152625Z
UID:100189-1710187200-1710192600@www.psychologischemorphologie.de
SUMMARY:Stephan Grünewald stellt vor: "Die Kulturgeschichte der Neuzeit" von Egon Friedell
DESCRIPTION:In der Reihe “Bücher aus der Wilhelm Salber Bibliothek” stellt Stephan Grünewald das bekannte Buch “Die Kulturgeschichte der Neuzeit” (Katalognummer 2022/206) vor. Der Autor Egon Friedell (1878 – 1938) beschreibt in dem 1927 bis 1931 erschienen und mit ca. 1500 Seiten monumentalen Werk die Geschichte der abendländischen Kultur vom Ausgang des Mittelalters bis zum Vorabend des Ersten Weltkriegs. Herr Grünewald schätzt an dem Buch insbesondere die anschaulichen und eindrücklichen Schilderungen komplexer\, historischer Situationen sowie die oft zuspitzende\, fast karikierende Darstellung Friedells. Er sieht in ihm einen Autor\, der es mit einer bildernahen Sprache wirklich verstand\, seine Leser mitzureißen und tief zu bewegen. Erleben Sie einen mitreißenden Abend\, an dem ein morphologischer Bestseller-Autor ein unsterbliches Buch vorstellt\, das ihn schon in frühen Jahren beeindruckte. \nDie Reihe “Bücher aus der Wilhelm Salber Gesellschaft” beginnt an diesem Abend aus zwei Gründen. Zum einen wird erstmals öffentlich der Katalog der Wilhelm Salber Privatbibliothek vorgestellt. Zum anderen jährt sich nur zwei Tage zuvor der Geburtstag Wilhelm Salbers am 9. März 1928 zum 96. Mal. \nZur Anmeldung benutzen Sie bitte unser Ticket-System. Sie können entweder ein Ticket für Vortrag und Diskussion vor Ort in der “Wilhelm Salber Bibliothek” oder ein Ticket für die Online-Teilnahme via ZOOM inklusive Link zur Veranstaltung erstehen. Beide sind kostenlos.
URL:https://www.psychologischemorphologie.de/veranstaltungen/stephan-gruenewald-friedell/
LOCATION:Wilhelm Salber Bibliothek\, Zülpicher Straße 83\, Köln\, 50937\, Deutschland
CATEGORIES:Vorträge
ORGANIZER;CN="Wilhelm Salber Gesellschaft":MAILTO:info@psychologischemorphologie.de
END:VEVENT
END:VCALENDAR