BEGIN:VCALENDAR
VERSION:2.0
PRODID:-//WSG - ECPv6.15.20//NONSGML v1.0//EN
CALSCALE:GREGORIAN
METHOD:PUBLISH
X-ORIGINAL-URL:https://www.psychologischemorphologie.de
X-WR-CALDESC:Veranstaltungen für WSG
REFRESH-INTERVAL;VALUE=DURATION:PT1H
X-Robots-Tag:noindex
X-PUBLISHED-TTL:PT1H
BEGIN:VTIMEZONE
TZID:Europe/Berlin
BEGIN:DAYLIGHT
TZOFFSETFROM:+0100
TZOFFSETTO:+0200
TZNAME:CEST
DTSTART:20240331T010000
END:DAYLIGHT
BEGIN:STANDARD
TZOFFSETFROM:+0200
TZOFFSETTO:+0100
TZNAME:CET
DTSTART:20241027T010000
END:STANDARD
BEGIN:DAYLIGHT
TZOFFSETFROM:+0100
TZOFFSETTO:+0200
TZNAME:CEST
DTSTART:20250330T010000
END:DAYLIGHT
BEGIN:STANDARD
TZOFFSETFROM:+0200
TZOFFSETTO:+0100
TZNAME:CET
DTSTART:20251026T010000
END:STANDARD
BEGIN:DAYLIGHT
TZOFFSETFROM:+0100
TZOFFSETTO:+0200
TZNAME:CEST
DTSTART:20260329T010000
END:DAYLIGHT
BEGIN:STANDARD
TZOFFSETFROM:+0200
TZOFFSETTO:+0100
TZNAME:CET
DTSTART:20261025T010000
END:STANDARD
END:VTIMEZONE
BEGIN:VEVENT
DTSTART;TZID=Europe/Berlin:20250602T200000
DTEND;TZID=Europe/Berlin:20250602T220000
DTSTAMP:20260420T172353
CREATED:20250331T072843Z
LAST-MODIFIED:20250525T143941Z
UID:102397-1748894400-1748901600@www.psychologischemorphologie.de
SUMMARY:Wie der Mensch sich selbst begreift
DESCRIPTION:Daniel Salber hat im Psychosozial-Verlag die Vorlesungen Wilhelm Salbers zur Geschichte der Psychologie herausgegeben: “Wie der Mensch sich selbst begreift”. Im Rahmen der “Gespräche in der Wilhelm Salber Bibliothek” kommen vier Kollegen zusammen\, die mit Salbers Psychologie gut vertraut sind. Wolfram Domke\, Norbert Endres\, Herbert Fitzek\, und Werner Pohlmann werden Auszüge aus Salbers Buch vorlesen und kommentieren. Dirk Blothner wird die Veranstaltung moderieren. \nAuf der Grundlage der gut und nachvollziehbar geschriebenen Vorlesung und der persönlichen Begründung ihrer Auswahl durch die vier Referenten verspricht die Veranstaltung ein interessanter und lebendiger Abend in der Wilhelm Salber Bibliothek zu werden. \nDie Veranstaltung findet in der Wilhelm Salber Bibliothek statt. Tickets zur Live-Teilnahme können erworben werden. \nÜber diesen ZOOM-Link können Sie sich am 2. Juni ab 19.30 Uhr zu dem Veranstaltung hinzuschalten:\nhttps://us06web.zoom.us/j/82123345920?pwd=J4CAEb742b3adwc2xEaiM2YV9ilEnw.1
URL:https://www.psychologischemorphologie.de/veranstaltungen/wie-der-mensch-sich-selbst-begreift/
LOCATION:Wilhelm Salber Bibliothek\, Zülpicher Straße 83\, Köln\, 50937\, Deutschland
ORGANIZER;CN="Wilhelm Salber Gesellschaft":MAILTO:info@psychologischemorphologie.de
END:VEVENT
END:VCALENDAR