BEGIN:VCALENDAR
VERSION:2.0
PRODID:-//WSG - ECPv6.15.20//NONSGML v1.0//EN
CALSCALE:GREGORIAN
METHOD:PUBLISH
X-WR-CALNAME:WSG
X-ORIGINAL-URL:https://www.psychologischemorphologie.de
X-WR-CALDESC:Veranstaltungen für WSG
REFRESH-INTERVAL;VALUE=DURATION:PT1H
X-Robots-Tag:noindex
X-PUBLISHED-TTL:PT1H
BEGIN:VTIMEZONE
TZID:Europe/Berlin
BEGIN:DAYLIGHT
TZOFFSETFROM:+0100
TZOFFSETTO:+0200
TZNAME:CEST
DTSTART:20230326T010000
END:DAYLIGHT
BEGIN:STANDARD
TZOFFSETFROM:+0200
TZOFFSETTO:+0100
TZNAME:CET
DTSTART:20231029T010000
END:STANDARD
BEGIN:DAYLIGHT
TZOFFSETFROM:+0100
TZOFFSETTO:+0200
TZNAME:CEST
DTSTART:20240331T010000
END:DAYLIGHT
BEGIN:STANDARD
TZOFFSETFROM:+0200
TZOFFSETTO:+0100
TZNAME:CET
DTSTART:20241027T010000
END:STANDARD
BEGIN:DAYLIGHT
TZOFFSETFROM:+0100
TZOFFSETTO:+0200
TZNAME:CEST
DTSTART:20250330T010000
END:DAYLIGHT
BEGIN:STANDARD
TZOFFSETFROM:+0200
TZOFFSETTO:+0100
TZNAME:CET
DTSTART:20251026T010000
END:STANDARD
END:VTIMEZONE
BEGIN:VEVENT
DTSTART;TZID=Europe/Berlin:20240221T173000
DTEND;TZID=Europe/Berlin:20240221T190000
DTSTAMP:20260421T155921
CREATED:20231222T150445Z
LAST-MODIFIED:20240216T100415Z
UID:100200-1708536600-1708542000@www.psychologischemorphologie.de
SUMMARY:Märchen-Workshop mit Dr. Wolfram Domke 01
DESCRIPTION:Dr. Wolfram Domke bietet vier Mal im Jahr einen Online-Märchen-Workshop an. Das Seminar wird unterstützt von der Wilhelm Salber Gesellschaft und der Business School Berlin. Der Workshop macht ein Angebot zur gemeinsamen Arbeit mit Märchen. In der Regel soll pro Veranstaltung ein Märchen der Gebrüder Grimm im Mittelpunkt stehen. Die erzählte Fassung wird in Austausch gebracht mit ihrem psychologischen Gehalt und Anwendungsbeispielen aus verschiedenen Bereichen. So kann das Sehen-Lernen ‘märchenhafter Wirklichkeit’ eingeübt werden. \nBeim Start-Termin am 21. Februar werden zunächst strukturelle Grundzüge der Märchenanalyse besprochen anhand einiger Kurzmärchen wie etwa “Herr Korbes”. Am zweiten Termin (24. April) werden dann “Die drei Federn” behandelt. \nDie Teilnahme an dem Seminar ist kostenlos. Bitte melden Sie sich an\, indem Sie trotzdem ein Ticket “erwerben”. Den ZOOM-LINK zu dem Seminar erhalten Sie rechtzeitig entweder mit dem Ticket oder einer gesonderten E-Mail.
URL:https://www.psychologischemorphologie.de/veranstaltungen/maerchen-workshop-mit-dr-wolfram-domke-01/
LOCATION:Business & Law School Berlin\, Calandrellistraße 1-9\, Berlin\, 12247
CATEGORIES:Seminar
ORGANIZER;CN="Wilhelm Salber Gesellschaft":MAILTO:info@psychologischemorphologie.de
END:VEVENT
END:VCALENDAR