BEGIN:VCALENDAR
VERSION:2.0
PRODID:-//WSG - ECPv6.15.20//NONSGML v1.0//EN
CALSCALE:GREGORIAN
METHOD:PUBLISH
X-ORIGINAL-URL:https://www.psychologischemorphologie.de
X-WR-CALDESC:Veranstaltungen für WSG
REFRESH-INTERVAL;VALUE=DURATION:PT1H
X-Robots-Tag:noindex
X-PUBLISHED-TTL:PT1H
BEGIN:VTIMEZONE
TZID:Europe/Berlin
BEGIN:DAYLIGHT
TZOFFSETFROM:+0100
TZOFFSETTO:+0200
TZNAME:CEST
DTSTART:20230326T010000
END:DAYLIGHT
BEGIN:STANDARD
TZOFFSETFROM:+0200
TZOFFSETTO:+0100
TZNAME:CET
DTSTART:20231029T010000
END:STANDARD
BEGIN:DAYLIGHT
TZOFFSETFROM:+0100
TZOFFSETTO:+0200
TZNAME:CEST
DTSTART:20240331T010000
END:DAYLIGHT
BEGIN:STANDARD
TZOFFSETFROM:+0200
TZOFFSETTO:+0100
TZNAME:CET
DTSTART:20241027T010000
END:STANDARD
BEGIN:DAYLIGHT
TZOFFSETFROM:+0100
TZOFFSETTO:+0200
TZNAME:CEST
DTSTART:20250330T010000
END:DAYLIGHT
BEGIN:STANDARD
TZOFFSETFROM:+0200
TZOFFSETTO:+0100
TZNAME:CET
DTSTART:20251026T010000
END:STANDARD
END:VTIMEZONE
BEGIN:VEVENT
DTSTART;TZID=Europe/Berlin:20241030T173000
DTEND;TZID=Europe/Berlin:20241030T190000
DTSTAMP:20260421T024920
CREATED:20240107T071912Z
LAST-MODIFIED:20240913T064007Z
UID:100249-1730309400-1730314800@www.psychologischemorphologie.de
SUMMARY:Märchen-Workshop mit Dr. Wolfram Domke 04
DESCRIPTION:Der vierte Märchen-Workshop mit Dr. Wolfram Domke behandelt das Märchen Fundevogel. In der Sammlung der Gebrüder Grimm steht es an 51. Stelle. Herr Dr. Domke wird das Märchen mit dem Film Zelig (USA 1983) von Woody austauschen. Er empfiehlt den Teilnehmern\, sich den Film vorher anzusehen. \nTeilnahme ist online über ZOOM möglich über eine limitierte Anzahl von Tickets\, die weiter unten bestellt werden können. Die Teilnahme ist kostenlos und wird von der BSP Business & Law School\, Berlin und der Wilhelm Salber Gesellschaft gefördert. \n 
URL:https://www.psychologischemorphologie.de/veranstaltungen/maerchen-workshop-mit-dr-wolfram-domke-04/
LOCATION:Business & Law School Berlin\, Calandrellistraße 1-9\, Berlin\, 12247
ORGANIZER;CN="Wilhelm Salber Gesellschaft":MAILTO:info@psychologischemorphologie.de
END:VEVENT
END:VCALENDAR