BEGIN:VCALENDAR
VERSION:2.0
PRODID:-//WSG - ECPv6.15.20//NONSGML v1.0//EN
CALSCALE:GREGORIAN
METHOD:PUBLISH
X-WR-CALNAME:WSG
X-ORIGINAL-URL:https://www.psychologischemorphologie.de
X-WR-CALDESC:Veranstaltungen für WSG
REFRESH-INTERVAL;VALUE=DURATION:PT1H
X-Robots-Tag:noindex
X-PUBLISHED-TTL:PT1H
BEGIN:VTIMEZONE
TZID:Europe/Berlin
BEGIN:DAYLIGHT
TZOFFSETFROM:+0100
TZOFFSETTO:+0200
TZNAME:CEST
DTSTART:20220327T010000
END:DAYLIGHT
BEGIN:STANDARD
TZOFFSETFROM:+0200
TZOFFSETTO:+0100
TZNAME:CET
DTSTART:20221030T010000
END:STANDARD
BEGIN:DAYLIGHT
TZOFFSETFROM:+0100
TZOFFSETTO:+0200
TZNAME:CEST
DTSTART:20230326T010000
END:DAYLIGHT
BEGIN:STANDARD
TZOFFSETFROM:+0200
TZOFFSETTO:+0100
TZNAME:CET
DTSTART:20231029T010000
END:STANDARD
BEGIN:DAYLIGHT
TZOFFSETFROM:+0100
TZOFFSETTO:+0200
TZNAME:CEST
DTSTART:20240331T010000
END:DAYLIGHT
BEGIN:STANDARD
TZOFFSETFROM:+0200
TZOFFSETTO:+0100
TZNAME:CET
DTSTART:20241027T010000
END:STANDARD
END:VTIMEZONE
BEGIN:VEVENT
DTSTART;TZID=Europe/Berlin:20230425T180000
DTEND;TZID=Europe/Berlin:20230425T193000
DTSTAMP:20260422T093821
CREATED:20230323T085433Z
LAST-MODIFIED:20230424T095833Z
UID:99428-1682445600-1682451000@www.psychologischemorphologie.de
SUMMARY:Ringvorlesung Medien: Der Kinofilm als Drehbuch des Lebens – Ein psychologischer Blick auf „Moonlight“ (USA 2016) von Barry Jenkins
DESCRIPTION:Referent: Prof. Dr. Dirk Blothner \nDer Spielfilm gehört zu den beliebtesten Unterhaltungsmedien unserer Zeit. Die neuen Streaming-Plattformen werden dazu benutzt\, die Stunden des Tages\, insbesondere der Wochenenden\, auf belebende Weise zu gestalten. Aber wir sehen auch immer wieder Filme\, die uns darüber hinaus einen tiefen Einblick in das Drehbuch des Lebens eröffnen. Der mit dem Oscar 2017 ausgezeichnete Film Moonlight von Barry Jenkins ist solch ein Glücksfall des Kinos. Wie findet Entwicklung statt? Welchen Herausforderungen muss sie sich in einem prekären Umfeld stellen? Wie entwickele ich mich zu dem\, der ich bin? Welcher Weg steht mir offen\, wenn ich mich dabei nicht auf den Halt einer Familie stützen kann? Wenn wir Moonlight mit einem psychologischen Blick sehen\, kann uns der Film – neben zwei unterhaltsamen Stunden – Antworten auf diese und weitere Fragen geben. \nEs handelt sich um einen Online-Vortrag mit Diskussion. Sie können sich mit diesem Link ab 17:50 Uhr dazuschalten!
URL:https://www.psychologischemorphologie.de/veranstaltungen/der-film-als-drehbuch-des-lebens/
CATEGORIES:Vorträge
END:VEVENT
END:VCALENDAR