BEGIN:VCALENDAR
VERSION:2.0
PRODID:-//WSG - ECPv6.15.20//NONSGML v1.0//EN
CALSCALE:GREGORIAN
METHOD:PUBLISH
X-WR-CALNAME:WSG
X-ORIGINAL-URL:https://www.psychologischemorphologie.de
X-WR-CALDESC:Veranstaltungen für WSG
REFRESH-INTERVAL;VALUE=DURATION:PT1H
X-Robots-Tag:noindex
X-PUBLISHED-TTL:PT1H
BEGIN:VTIMEZONE
TZID:Europe/Berlin
BEGIN:DAYLIGHT
TZOFFSETFROM:+0100
TZOFFSETTO:+0200
TZNAME:CEST
DTSTART:20200329T010000
END:DAYLIGHT
BEGIN:STANDARD
TZOFFSETFROM:+0200
TZOFFSETTO:+0100
TZNAME:CET
DTSTART:20201025T010000
END:STANDARD
BEGIN:DAYLIGHT
TZOFFSETFROM:+0100
TZOFFSETTO:+0200
TZNAME:CEST
DTSTART:20210328T010000
END:DAYLIGHT
BEGIN:STANDARD
TZOFFSETFROM:+0200
TZOFFSETTO:+0100
TZNAME:CET
DTSTART:20211031T010000
END:STANDARD
BEGIN:DAYLIGHT
TZOFFSETFROM:+0100
TZOFFSETTO:+0200
TZNAME:CEST
DTSTART:20220327T010000
END:DAYLIGHT
BEGIN:STANDARD
TZOFFSETFROM:+0200
TZOFFSETTO:+0100
TZNAME:CET
DTSTART:20221030T010000
END:STANDARD
END:VTIMEZONE
BEGIN:VEVENT
DTSTART;TZID=Europe/Berlin:20210714T190000
DTEND;TZID=Europe/Berlin:20210714T203000
DTSTAMP:20260423T213343
CREATED:20210304T133907Z
LAST-MODIFIED:20210621T090241Z
UID:71204-1626289200-1626294600@www.psychologischemorphologie.de
SUMMARY:Ringvorlesung an der BSP Berlin: "Was ist Morphologie?" (6)
DESCRIPTION:An der Business School Berlin findet im Sommersemester 2021 eine digitale Ringvorlesung statt. Den siebten Vortrag in der Reihe hält \nProf. Armin Schulte mit “Think different – Was die Morphologie anders macht: Drei Um-Fokussierungen” \nMelden Sie sich bitte über diesen LINK auf der Homepage der BSP Berlin an. Der Zugang zur Online-Veranstaltung via Microsoft Teams wird Ihnen rechtzeitig vor Beginn der Vorlesung zugesendet.
URL:https://www.psychologischemorphologie.de/veranstaltungen/ringvorlesung-schulte/
CATEGORIES:Vorträge
END:VEVENT
END:VCALENDAR