BEGIN:VCALENDAR
VERSION:2.0
PRODID:-//WSG - ECPv6.15.20//NONSGML v1.0//EN
CALSCALE:GREGORIAN
METHOD:PUBLISH
X-ORIGINAL-URL:https://www.psychologischemorphologie.de
X-WR-CALDESC:Veranstaltungen für WSG
REFRESH-INTERVAL;VALUE=DURATION:PT1H
X-Robots-Tag:noindex
X-PUBLISHED-TTL:PT1H
BEGIN:VTIMEZONE
TZID:Europe/Berlin
BEGIN:DAYLIGHT
TZOFFSETFROM:+0100
TZOFFSETTO:+0200
TZNAME:CEST
DTSTART:20240331T010000
END:DAYLIGHT
BEGIN:STANDARD
TZOFFSETFROM:+0200
TZOFFSETTO:+0100
TZNAME:CET
DTSTART:20241027T010000
END:STANDARD
BEGIN:DAYLIGHT
TZOFFSETFROM:+0100
TZOFFSETTO:+0200
TZNAME:CEST
DTSTART:20250330T010000
END:DAYLIGHT
BEGIN:STANDARD
TZOFFSETFROM:+0200
TZOFFSETTO:+0100
TZNAME:CET
DTSTART:20251026T010000
END:STANDARD
BEGIN:DAYLIGHT
TZOFFSETFROM:+0100
TZOFFSETTO:+0200
TZNAME:CEST
DTSTART:20260329T010000
END:DAYLIGHT
BEGIN:STANDARD
TZOFFSETFROM:+0200
TZOFFSETTO:+0100
TZNAME:CET
DTSTART:20261025T010000
END:STANDARD
END:VTIMEZONE
BEGIN:VEVENT
DTSTART;VALUE=DATE:20251205
DTEND;VALUE=DATE:20251207
DTSTAMP:20260420T070542
CREATED:20250824T124806Z
LAST-MODIFIED:20251201T182244Z
UID:102764-1764921600-1765007999@www.psychologischemorphologie.de
SUMMARY:WSG-Kongress 2025: Morphologie für das 21. Jahrhundert
DESCRIPTION:BSP Business an Law School – Campus Hamburg\nWSG-Kongress 2025\nMorphologie für das 21. Jahrhundert\nDatum: 5. Dezember 2025\nOrt: Business & Law School Campus Hamburg\, Am Kaiserkai 1\, Hamburg\, Germany\nRaum 5.14\nVeranstalter: Wilhelm-Salber-Gesellschaft e.V. \nDie Psychologische Morphologie hat sich als lebendige Wissenschaft in vielen Feldern etabliert – von der Kultur- und Marktpsychologie über Psychotherapie\, Organisations- und Sportpsychologie bis hin zu Kunst- und Medienpsychologie. Doch wie lässt sich ihr Denken in das 21. Jahrhundert fortschreiben? \nDer Kongress „Morphologie für das 21. Jahrhundert“ lädt ein\, gemeinsam Bilanz zu ziehen und neue Wege zu erkunden. In Vorträgen\, Dialogformaten und Auszeichnungen kommen erfahrene Morpholog:innen und die nächste Generation ins Gespräch – für eine Morphologie mit Zukunft. \nDer Kongress verfolgt die Ziele: \nDie Vielfalt morphologischer Richtungen sichtbar machen\nDen Dialog zwischen Wissenschaft\, Praxis und Nachwuchs fördern\nDen morphologischen Nachwuchs stärken und auszeichnen\nImpulse für eine Morphologie der Zukunft entwickeln \nArbeits-Programm\n11:00–11:15 – Eröffnung\nBegrüßung und Einführung durch Dirk Blothner und Dirk Ziems\n(ggf. Grußwort Ilona Renken-Olthoff) \n11:15–12:15 – Welt im Umbruch – Umschrift der Welt?\nKulturpsychologische Impulsreferate zu den großen Themen unserer Zeit:\nDemokratie im Stresstest\, internationale Unordnung\, dysfunktionaler Alltag\, Disruption durch KI\, neue Medien-Ordnungen.\nDiskussion des Beitrags der Psychologischen Morphologie für gesellschaftliche Debatten.\nMit Beiträgen von:\nDirk Blothner\, Herbert Fitzek\, Thomas Ebenfeld\, Dirk Ziems \n12:30-12:50 Impuls-Vortrag Prof. Dr. Herbert Fitzek\n“Die Morphologie ist zeitlos schön” \n12:50–13:40 – World-M-Café Teil 1: Morphologie in der Praxis\nEin interaktiver Parcours mit sechs thematischen Stationen\, an denen sich Studierende\, Alumni und erfahrene Morpholog:innen begegnen.\nIm Mittelpunkt steht der Austausch über die besonderen Chancen\, Methoden und Herausforderungen der morphologischen Praxis.\nStationen & Moderation (angefragt):\nMarketing- & Marktpsychologie 1): Thomas Ebenfeld\, Leonard Engler\nMarketing- & Marktpsychologie 2) Sven Giebel\, Valerian Warmuth\nMarketing- & Marktpsychologie 3) Nicole Hanisch\, Susan Hinterding\nMedienpsychologie 4): Björn Zwingmann\, Johanna Hodde\, Dirk Blothner\, Verana Tiedau\nOrganisationspsychologie 5): Franz Arnold\, Jakob Mair\nSportpsychologie 6) : Florian Schwalb\, Jannik Everding\nIntensivberatung 7): Herbert Fitzek\, Pola Zügge\, Doris\, Bartholomäi-Post \nFormat: Vier interaktive Sessions à 20 Minuten mit anschließendem Recap.\nModeration: jeweils ein/e erfahrene/r und ein/e junge/r Morpholog:innen. \n13:40 – 14:15 Mittagspause \n14:15 – 15:00 World-M-Café Teil 2: Morphologie in der Praxis\nInhalte s.o. \n15:00–16:00 – Morphologischer “Young Talent Award”\nAuszeichnung herausragender Arbeiten\, Projekte und Gründungen junger Morpholog:innen unter 30 Jahren\, die die Psychologische Morphologie kreativ ins 21. Jahrhundert tragen.\nPräsentation der Shortlist und Live-Pitches der Finalist:innen.\nModeration: Susan Hinterding \n16:00–16:45 – Abschlussrunde: Zukunft der Morphologie\nZusammenfassung der wichtigsten Einsichten aus dem World-M-Café und den Beiträgen der Young Talents.\nDiskussion: Was macht die Psychologische Morphologie besonders? Welche Zukunftspotenziale hat sie?\nMit: Vertreter:innen aus den World-M-Café-Stationen\nModeration: Dirk Blothner und Dirk Ziems \nab 16:45 – Get-Together\nAustausch\, Gespräche und Ausklang bei Getränken und Musik. \nErgänzende Information: \nWSG – Young Talent Award\nMit dem Young Talent Award zeichnet die Wilhelm-Salber-Gesellschaft junge Menschen aus\, die die morphologische Denkweise Wilhelm Salbers kreativ weiterentwickeln – in Forschung\, Anwendung oder gesellschaftlicher Praxis. \nDer Preis fördert den morphologischen Nachwuchs\, macht innovative und methodisch fundierte Arbeiten sichtbar und stärkt den Dialog zwischen Wissenschaft\, Praxis und Gesellschaft.\nGesucht werden Beiträge\, die wissenschaftliche Exzellenz mit kreativem Impuls verbinden. \nWer kann sich bewerben?\nStudierende\, Absolvent:innen\, Initiativen und Gründer:innen\, die morphologische Psychologie lebendig machen – ob durch Forschung\, Projekte oder Unternehmungen. \nEingereicht werden können:\nAbschlussarbeiten\, Projektbeschreibungen\, Präsentationen oder Gründungskonzepte mit morphologischem Bezug. \nAblauf:\nEine Jury wählt aus allen Einreichungen eine Shortlist und drei Finalist:innen aus\, die ihre Projekte beim WSG-Kongress am 5. Dezember präsentieren.\nDie Preisvergabe erfolgt im Anschluss.\nBewerbungen bitte an: info@psychologischemorphologie.de
URL:https://www.psychologischemorphologie.de/veranstaltungen/wsg-kongress-2025-morphologie-fuer-das-21-jahrhundert/
LOCATION:Business & Law School Campus Hamburg\, Am Kaiserkai 1\, Hamburg\, 20457\, Germany
CATEGORIES:Kongress
ORGANIZER;CN="Wilhelm Salber Gesellschaft":MAILTO:info@psychologischemorphologie.de
END:VEVENT
END:VCALENDAR