BEGIN:VCALENDAR
VERSION:2.0
PRODID:-//WSG - ECPv6.15.20//NONSGML v1.0//EN
CALSCALE:GREGORIAN
METHOD:PUBLISH
X-WR-CALNAME:WSG
X-ORIGINAL-URL:https://www.psychologischemorphologie.de
X-WR-CALDESC:Veranstaltungen für WSG
REFRESH-INTERVAL;VALUE=DURATION:PT1H
X-Robots-Tag:noindex
X-PUBLISHED-TTL:PT1H
BEGIN:VTIMEZONE
TZID:Europe/Berlin
BEGIN:DAYLIGHT
TZOFFSETFROM:+0100
TZOFFSETTO:+0200
TZNAME:CEST
DTSTART:20210328T010000
END:DAYLIGHT
BEGIN:STANDARD
TZOFFSETFROM:+0200
TZOFFSETTO:+0100
TZNAME:CET
DTSTART:20211031T010000
END:STANDARD
BEGIN:DAYLIGHT
TZOFFSETFROM:+0100
TZOFFSETTO:+0200
TZNAME:CEST
DTSTART:20220327T010000
END:DAYLIGHT
BEGIN:STANDARD
TZOFFSETFROM:+0200
TZOFFSETTO:+0100
TZNAME:CET
DTSTART:20221030T010000
END:STANDARD
BEGIN:DAYLIGHT
TZOFFSETFROM:+0100
TZOFFSETTO:+0200
TZNAME:CEST
DTSTART:20230326T010000
END:DAYLIGHT
BEGIN:STANDARD
TZOFFSETFROM:+0200
TZOFFSETTO:+0100
TZNAME:CET
DTSTART:20231029T010000
END:STANDARD
END:VTIMEZONE
BEGIN:VEVENT
DTSTART;TZID=Europe/Berlin:20220309T190000
DTEND;TZID=Europe/Berlin:20220309T210000
DTSTAMP:20260423T090542
CREATED:20220126T134012Z
LAST-MODIFIED:20220305T082241Z
UID:98039-1646852400-1646859600@www.psychologischemorphologie.de
SUMMARY:Metapsychologie für Alltag\, Kunst und Kultur (Lesekreis 01)
DESCRIPTION:[vc_row][vc_column width=”1/1″][vc_column_text uncode_shortcode_id=”166911″]Texte von Wilhelm Salber sind keine leichte Kost. Oft wird angeführt\, das liege vor allem an seiner schwer zu verstehenden Art zu schreiben. Es spricht jedoch einiges dafür\, dass es die eigentümlichen Gestaltungsvorgänge des Seelischen selbst sind\, die sich einer Erfassung mit vertrauten Begriffen widersetzen. Der Lesekreis möchte interessierte Menschen ermutigen\, sich die harten\, aber poetischen\, zugleich beschreibenden und tief in den unbewussten Produktionsbetrieb des Seelischen vordringenden\, späten Texte Wilhelm Salbers zu erschließen. \nBei den einzelnen Treffen werden jeweils einige wenige Seiten gelesen und besprochen. Es geht um ein Verstehen\, des in ihnen zum Ausdruck kommenden Blicks auf die Wirklichkeit. Das schließt auch die Analyse des Aufbaus der Texte mit ein. Auf diese Weise wird erarbeitet\, wie Salber in seinen letzten Jahren die morphologische Sicht auf Alltag\, Kultur und Kunst zu vermitteln suchte. \nÜber diesen LINK gelangen Sie am Mittwoch\, den 9. März ab 18:50 zum Lesekreis. \nDen Auftakt bilden die Kapitel 1\, 3 und 4 aus “Umgang mit Gestalten” (2016).\nDer ganze Text ist in anders 26/2016 erschienen\, Die im Lesekreis diskutierten Kapitel werden an\ndieser Stelle als PDFs zur Verfügung gestellt: \n  \nKapitel_01 \nKapitel_03 \nKapitel_04[/vc_column_text][/vc_column][/vc_row]
URL:https://www.psychologischemorphologie.de/veranstaltungen/lesekreis_salber_01/
LOCATION:Wilhelm Salber Bibliothek\, Zülpicher Straße 83\, Köln\, 50937\, Deutschland
CATEGORIES:Seminar
ORGANIZER;CN="Wilhelm Salber Gesellschaft":MAILTO:info@psychologischemorphologie.de
END:VEVENT
END:VCALENDAR